BEGIN:VCALENDAR
VERSION:2.0
PRODID:-//www.chenangoarts.org//NONSGML kigkonsult.se iCalcreator 2.30.10//
CALSCALE:GREGORIAN
METHOD:PUBLISH
UID:43c6a07c-3fe1-4e83-ae9e-dd1a68e5e870
X-WR-CALDESC:Mother's Day Fundraiser at the Chenango Arts Council.\nCome de
 corate and glaze a plate for Mother's Day on Saturday May 2nd from 12PM to
  4:00PM.  All the proceeds will go to buy materials for future ceramic wor
 kshops.  Your glazed plate will be fired on time to give it to Mom.\n\nRan
 ge of plate prices\, depending on size: $7 to $37. Registration is preferr
 ed. Due to the variety of sizes and prices\, we ask you pay the day of the
  class.\n
X-WR-RELCALID:11141f04dc82d17092a1fa6638557e03
X-WR-TIMEZONE:America/New_York
BEGIN:VTIMEZONE
TZID:America/New_York
BEGIN:STANDARD
TZNAME:EST
DTSTART:20251102T020000
TZOFFSETFROM:-0400
TZOFFSETTO:-0500
RDATE:20261101T020000
END:STANDARD
BEGIN:DAYLIGHT
TZNAME:EDT
DTSTART:20260308T020000
TZOFFSETFROM:-0500
TZOFFSETTO:-0400
RDATE:20270314T020000
END:DAYLIGHT
END:VTIMEZONE
BEGIN:VEVENT
UID:670dc25b-27c2-4577-9d9a-dda947cfb66b
DTSTAMP:20260421T043959Z
DESCRIPTION:Mother's Day Fundraiser at the Chenango Arts Council.\nCome dec
 orate and glaze a plate for Mother's Day on Saturday May 2nd from 12PM to 
 4:00PM.  All the proceeds will go to buy materials for future ceramic work
 shops.  Your glazed plate will be fired on time to give it to Mom.\n\nRang
 e of plate prices\, depending on size: $7 to $37. Registration is preferre
 d. Due to the variety of sizes and prices\, we ask you pay the day of the 
 class.\n
DTSTART;TZID=America/New_York:20260502T120000
DTEND;TZID=America/New_York:20260502T170000
LOCATION:27 West Main Street\, Norwich NY 13815\, Norwich\, NY 13815 US
SUMMARY:Paint A Ceramic Plate Fundraiser
END:VEVENT
END:VCALENDAR
