BEGIN:VCALENDAR
VERSION:2.0
PRODID:-//www.chenangoarts.org//NONSGML kigkonsult.se iCalcreator 2.30.10//
CALSCALE:GREGORIAN
METHOD:PUBLISH
UID:8af4c210-9d97-480f-aea5-fc5a6737ef0a
X-WR-CALDESC:All supplies included! Step by step instruction from hand scul
 pting to glazing.
X-WR-RELCALID:2fa6db8b95b4ee3bf470f927a5c2afd4
X-WR-TIMEZONE:America/New_York
BEGIN:VTIMEZONE
TZID:America/New_York
BEGIN:STANDARD
TZNAME:EST
DTSTART:20251102T020000
TZOFFSETFROM:-0400
TZOFFSETTO:-0500
RDATE:20261101T020000
END:STANDARD
BEGIN:DAYLIGHT
TZNAME:EDT
DTSTART:20260308T020000
TZOFFSETFROM:-0500
TZOFFSETTO:-0400
RDATE:20270314T020000
END:DAYLIGHT
END:VTIMEZONE
BEGIN:VEVENT
UID:5dc4db7d-3c4e-4c64-965a-89293fdce106
DTSTAMP:20260421T114145Z
DESCRIPTION:All supplies included! Step by step instruction from hand sculp
 ting to glazing.
DTSTART;TZID=America/New_York:20260331T180000
DTEND;TZID=America/New_York:20260421T200000
LOCATION:27 West Main Street\, Norwich NY 13815\, Norwich\, NY 13815 US
SUMMARY:Spring Ceramics
END:VEVENT
END:VCALENDAR
