BEGIN:VCALENDAR
VERSION:2.0
PRODID:-//www.chenangoarts.org//NONSGML kigkonsult.se iCalcreator 2.30.10//
CALSCALE:GREGORIAN
METHOD:PUBLISH
UID:daa19a03-286b-4338-b49e-7d711e0d406b
X-WR-CALDESC:
X-WR-RELCALID:4cfb50db1caf2a62031eb1b1f57825b1
X-WR-TIMEZONE:America/New_York
BEGIN:VTIMEZONE
TZID:America/New_York
BEGIN:STANDARD
TZNAME:EST
DTSTART:20251102T020000
TZOFFSETFROM:-0400
TZOFFSETTO:-0500
RDATE:20261101T020000
END:STANDARD
BEGIN:DAYLIGHT
TZNAME:EDT
DTSTART:20250309T020000
TZOFFSETFROM:-0500
TZOFFSETTO:-0400
RDATE:20260308T020000
RDATE:20270314T020000
END:DAYLIGHT
END:VTIMEZONE
BEGIN:VEVENT
UID:84fa0344-282a-4937-b6ce-492a8e8dc39c
DTSTAMP:20260421T085111Z
DESCRIPTION:
DTSTART;TZID=America/New_York:20251105T170000
DTEND;TZID=America/New_York:20251108T150000
LOCATION:27 West Main Street\, Norwich NY 13815\, Norwich\, NY 13815 US
SUMMARY:Antique Players Techniques Workshop & Performance
END:VEVENT
END:VCALENDAR
