BEGIN:VCALENDAR
VERSION:2.0
PRODID:-//www.chenangoarts.org//NONSGML kigkonsult.se iCalcreator 2.30.10//
CALSCALE:GREGORIAN
METHOD:PUBLISH
UID:6ca3a774-1247-4fc2-a09d-abd6d5109dd9
X-WR-CALDESC:'Their live shows are foot-stomping\, crowd-pleasing riots\, f
 ull of the kind of high-octane instrumental skills that the band – now in 
 its twelfth year and its third incarnation – was always intended to showca
 se.'\n- The Guardian\n\nDella Mae is a GRAMMY-nominated all-woman string b
 and featuring founding members Celia Woodsmith (lead vocalist/guitarist) a
 nd 2-time Grand National champion fiddle player Kimber Ludiker\, along wit
 h guitarist Avril Smith\, and two-time IBMA Bass Player of the Year Vickie
  Vaughn.\n\nHailing from across North America\, and reared in diverse musi
 cal styles\, Della Mae is one of the most charismatic and engaging roots b
 ands touring today. They have traveled to over 30 countries spreading peac
 e and understanding through music. Their mission as a band is to showcase 
 top female musicians\, and to improve opportunities for women and girls th
 rough advocacy\, mentorship\, programming\, and performance.\n\nThank you 
 to our show sponsors: The Mid-York Foundation\; NBT Bank\; WAER FM Radio\;
  Preferred Mutual\; Sidney Federal Credit Union\; Hamilton Community Chest
 \; & Bruce Ward\, Architect.\n\nSpecial thanks to our hospitality sponsor 
 Poolville Country Store Restaurant Bed & Breakfast! Make it an evening out
  & receive 10% off dinner at Poolville by presenting your EOH show ticket 
 or receive 10% off your show ticket by presenting your Poolville dinner re
 ceipt at the Box Office! Call 315-691-2677 for dinner reservations!\n\nALS
 O: Show your ticket at Huff Brau llc before or after the show & get $1 off
  your first drink! EOH Family Members & up\, show your membership card & s
 how tickets to get 10% off your meal\, on the night of the performance! Ca
 ll 315-691-3300 for dinner reservations!\n\nEarlville Opera House is locat
 ed at 18 East Main Street in the quaint Village of Earlville\, NY. At EOH 
 we believe accessibility & inclusion are critical to everything we do. Our
  historic Opera House has been upgraded to ensure accessibility throughout
  the building\, including a hearing loop system in our 1892 theater provid
 ed by Hamilton Hearing LLC.\n\nEOH events are made possible by the Office 
 of the Governor and NYS Legislature\, with support from New York State Cou
 ncil on the Arts\, and through the generosity of EOH members.\n \nEvent Co
 st\n$50 General / $45 Members\, College Students get half off with present
 ing their valid Student ID\, $10 for students 17 years and younger.
X-WR-RELCALID:866a05f95a753112eacb4150cafaae3d
X-WR-TIMEZONE:America/New_York
BEGIN:VTIMEZONE
TZID:America/New_York
BEGIN:STANDARD
TZNAME:EST
DTSTART:20241103T020000
TZOFFSETFROM:-0400
TZOFFSETTO:-0500
RDATE:20251102T020000
RDATE:20261101T020000
END:STANDARD
BEGIN:DAYLIGHT
TZNAME:EDT
DTSTART:20250309T020000
TZOFFSETFROM:-0500
TZOFFSETTO:-0400
RDATE:20260308T020000
RDATE:20270314T020000
END:DAYLIGHT
END:VTIMEZONE
BEGIN:VEVENT
UID:33295ea3-42cf-4779-81d1-5629e057456d
DTSTAMP:20260421T085111Z
DESCRIPTION:'Their live shows are foot-stomping\, crowd-pleasing riots\, fu
 ll of the kind of high-octane instrumental skills that the band – now in i
 ts twelfth year and its third incarnation – was always intended to showcas
 e.'\n- The Guardian\n\nDella Mae is a GRAMMY-nominated all-woman string ba
 nd featuring founding members Celia Woodsmith (lead vocalist/guitarist) an
 d 2-time Grand National champion fiddle player Kimber Ludiker\, along with
  guitarist Avril Smith\, and two-time IBMA Bass Player of the Year Vickie 
 Vaughn.\n\nHailing from across North America\, and reared in diverse music
 al styles\, Della Mae is one of the most charismatic and engaging roots ba
 nds touring today. They have traveled to over 30 countries spreading peace
  and understanding through music. Their mission as a band is to showcase t
 op female musicians\, and to improve opportunities for women and girls thr
 ough advocacy\, mentorship\, programming\, and performance.\n\nThank you t
 o our show sponsors: The Mid-York Foundation\; NBT Bank\; WAER FM Radio\; 
 Preferred Mutual\; Sidney Federal Credit Union\; Hamilton Community Chest\
 ; & Bruce Ward\, Architect.\n\nSpecial thanks to our hospitality sponsor P
 oolville Country Store Restaurant Bed & Breakfast! Make it an evening out 
 & receive 10% off dinner at Poolville by presenting your EOH show ticket o
 r receive 10% off your show ticket by presenting your Poolville dinner rec
 eipt at the Box Office! Call 315-691-2677 for dinner reservations!\n\nALSO
 : Show your ticket at Huff Brau llc before or after the show & get $1 off 
 your first drink! EOH Family Members & up\, show your membership card & sh
 ow tickets to get 10% off your meal\, on the night of the performance! Cal
 l 315-691-3300 for dinner reservations!\n\nEarlville Opera House is locate
 d at 18 East Main Street in the quaint Village of Earlville\, NY. At EOH w
 e believe accessibility & inclusion are critical to everything we do. Our 
 historic Opera House has been upgraded to ensure accessibility throughout 
 the building\, including a hearing loop system in our 1892 theater provide
 d by Hamilton Hearing LLC.\n\nEOH events are made possible by the Office o
 f the Governor and NYS Legislature\, with support from New York State Coun
 cil on the Arts\, and through the generosity of EOH members.\n \nEvent Cos
 t\n$50 General / $45 Members\, College Students get half off with presenti
 ng their valid Student ID\, $10 for students 17 years and younger.
DTSTART;TZID=America/New_York:20251017T190000
DTEND;TZID=America/New_York:20251017T210000
LOCATION:Earlville Opera House\, 18 East Main Street\, Earlville\, NY 13332
  US
SUMMARY:Delta Mae
END:VEVENT
END:VCALENDAR
