BEGIN:VCALENDAR
VERSION:2.0
PRODID:-//www.chenangoarts.org//NONSGML kigkonsult.se iCalcreator 2.30.10//
CALSCALE:GREGORIAN
METHOD:PUBLISH
UID:1c15ef91-b817-4a8d-9919-c0ba3c290f1f
X-WR-CALDESC:Join the Chenango County Historical Society for this global ev
 ent presented by Nickelodeon and the Association of Children's Museums. De
 dicated to experiencing joyful learning through play\, this day focuses on
  getting kids and families up\, out\, and playing around. Chenango County’
 s own award-winning author and illustrator Suzanne Bloom will share her be
 loved story I Just Like You in collaboration with “One Story\, One Book.” 
 Local favorite “Jenni's Music” will offer interactive movement and play-fo
 cused activities.
X-WR-RELCALID:8be5521f6d73b9f62bd86c53a315c305
X-WR-TIMEZONE:America/New_York
BEGIN:VTIMEZONE
TZID:America/New_York
BEGIN:STANDARD
TZNAME:EST
DTSTART:20241103T020000
TZOFFSETFROM:-0400
TZOFFSETTO:-0500
RDATE:20251102T020000
RDATE:20261101T020000
END:STANDARD
BEGIN:DAYLIGHT
TZNAME:EDT
DTSTART:20250309T020000
TZOFFSETFROM:-0500
TZOFFSETTO:-0400
RDATE:20260308T020000
RDATE:20270314T020000
END:DAYLIGHT
END:VTIMEZONE
BEGIN:VEVENT
UID:0a51dd8b-b660-4707-92aa-b1b11c319ce7
DTSTAMP:20260421T115702Z
DESCRIPTION:Join the Chenango County Historical Society for this global eve
 nt presented by Nickelodeon and the Association of Children's Museums. Ded
 icated to experiencing joyful learning through play\, this day focuses on 
 getting kids and families up\, out\, and playing around. Chenango County’s
  own award-winning author and illustrator Suzanne Bloom will share her bel
 oved story I Just Like You in collaboration with “One Story\, One Book.” L
 ocal favorite “Jenni's Music” will offer interactive movement and play-foc
 used activities.
DTSTART;TZID=America/New_York:20250927T100000
DTEND;TZID=America/New_York:20250927T160000
LOCATION:Chenango County Historical Society\, 43 Rexford Street\, Norwich\,
  NY 13815 US
SUMMARY:Our World: Worldwide Day of Play
END:VEVENT
END:VCALENDAR
