BEGIN:VCALENDAR
VERSION:2.0
PRODID:-//www.chenangoarts.org//NONSGML kigkonsult.se iCalcreator 2.30.10//
CALSCALE:GREGORIAN
METHOD:PUBLISH
UID:a1ab7b3c-5406-4ca9-869a-6b5a9842e1ad
X-WR-CALDESC:For five decades\, artist James Walsh and pushed the boundarie
 s of what paint can do\, transforming acrylic into an ever-expanding dialo
 gue of form and color. From the mid 70's through to the present\, Wals has
  embraced nearly every acrylic medium created\, making each uniquely his o
 wn. Now\, RELIEF IN SIGHT at The Sam and Adele Golden Gallery (The SAGG) c
 elebrates this extraordinary journey. We invite you to explore the exhibit
 ion and experience the full catalogue online. Step inside a lifetime of in
 novation\, discovery and devotion to the act of painting.\n\nFor more deta
 ils\, visit www.TheSAGG.org.
X-WR-RELCALID:7166c0e1abacaaedce90293d323ec2db
X-WR-TIMEZONE:America/New_York
BEGIN:VTIMEZONE
TZID:America/New_York
BEGIN:STANDARD
TZNAME:EST
DTSTART:20241103T020000
TZOFFSETFROM:-0400
TZOFFSETTO:-0500
RDATE:20251102T020000
RDATE:20261101T020000
END:STANDARD
BEGIN:DAYLIGHT
TZNAME:EDT
DTSTART:20250309T020000
TZOFFSETFROM:-0500
TZOFFSETTO:-0400
RDATE:20260308T020000
RDATE:20270314T020000
END:DAYLIGHT
END:VTIMEZONE
BEGIN:VEVENT
UID:94c329da-491f-4ce2-90d8-8ae8b38a59e0
DTSTAMP:20260421T114907Z
DESCRIPTION:For five decades\, artist James Walsh and pushed the boundaries
  of what paint can do\, transforming acrylic into an ever-expanding dialog
 ue of form and color. From the mid 70's through to the present\, Wals has 
 embraced nearly every acrylic medium created\, making each uniquely his ow
 n. Now\, RELIEF IN SIGHT at The Sam and Adele Golden Gallery (The SAGG) ce
 lebrates this extraordinary journey. We invite you to explore the exhibiti
 on and experience the full catalogue online. Step inside a lifetime of inn
 ovation\, discovery and devotion to the act of painting.\n\nFor more detai
 ls\, visit www.TheSAGG.org.
DTSTART;TZID=America/New_York:20250927T160000
DTEND;TZID=America/New_York:20250927T180000
LOCATION:Golden Artist Colors\, 188 Bell Road\, New Berlin\, NY 13411 US
SUMMARY:James Walsh - Relief In Sight
END:VEVENT
END:VCALENDAR
