BEGIN:VCALENDAR
VERSION:2.0
PRODID:-//www.chenangoarts.org//NONSGML kigkonsult.se iCalcreator 2.30.10//
CALSCALE:GREGORIAN
METHOD:PUBLISH
UID:fd322735-5211-4346-a716-14fa5970357f
X-WR-CALDESC:Hand craft your own ceramic pieces! Esperanza Roncero leads yo
 ur through many fun and beautiful projects! The workshop will be in two pa
 rts\, with sculpting taking place Mondays and Tuesdays the week of Septemb
 er 8th and 15ths\, and glazing taking place on Oct 6. Tuition covers all s
 upplies!
X-WR-RELCALID:cd5104d3fa58f0b1ec44b1b12d6fc2bd
X-WR-TIMEZONE:America/New_York
BEGIN:VTIMEZONE
TZID:America/New_York
BEGIN:STANDARD
TZNAME:EST
DTSTART:20241103T020000
TZOFFSETFROM:-0400
TZOFFSETTO:-0500
RDATE:20251102T020000
RDATE:20261101T020000
END:STANDARD
BEGIN:DAYLIGHT
TZNAME:EDT
DTSTART:20250309T020000
TZOFFSETFROM:-0500
TZOFFSETTO:-0400
RDATE:20260308T020000
END:DAYLIGHT
END:VTIMEZONE
BEGIN:VEVENT
UID:a9d9dc7f-70bc-4273-beed-27dd9d867f4a
DTSTAMP:20260421T115245Z
DESCRIPTION:Hand craft your own ceramic pieces! Esperanza Roncero leads you
 r through many fun and beautiful projects! The workshop will be in two par
 ts\, with sculpting taking place Mondays and Tuesdays the week of Septembe
 r 8th and 15ths\, and glazing taking place on Oct 6. Tuition covers all su
 pplies!
DTSTART;TZID=America/New_York:20250908T180000
DTEND;TZID=America/New_York:20250916T200000
LOCATION:27 West Main Street\, Norwich NY 13815\, Norwich\, AL 13815 US
SUMMARY:Hand Ceramics
END:VEVENT
END:VCALENDAR
