BEGIN:VCALENDAR
VERSION:2.0
PRODID:-//www.chenangoarts.org//NONSGML kigkonsult.se iCalcreator 2.30.10//
CALSCALE:GREGORIAN
METHOD:PUBLISH
UID:c8f20ea7-ce88-402c-9056-33912c40ec59
X-WR-CALDESC:Explore the historic corner of East Main and South Broad stree
 ts with Will MacGuire\, owner and proprietor of Live Event NY - the produc
 tion company which has called the space home for several years. This indoo
 r structure tour will meet in and depart from the Live Event NY Showroom\,
  located at One South Broad Street.
X-WR-RELCALID:b84f8c337056618c9e543b9d380d1511
X-WR-TIMEZONE:America/New_York
BEGIN:VTIMEZONE
TZID:America/New_York
BEGIN:STANDARD
TZNAME:EST
DTSTART:20241103T020000
TZOFFSETFROM:-0400
TZOFFSETTO:-0500
RDATE:20251102T020000
RDATE:20261101T020000
END:STANDARD
BEGIN:DAYLIGHT
TZNAME:EDT
DTSTART:20250309T020000
TZOFFSETFROM:-0500
TZOFFSETTO:-0400
RDATE:20260308T020000
END:DAYLIGHT
END:VTIMEZONE
BEGIN:VEVENT
UID:88865181-e503-4ec7-ba69-139f1888778d
DTSTAMP:20260421T120137Z
DESCRIPTION:Explore the historic corner of East Main and South Broad street
 s with Will MacGuire\, owner and proprietor of Live Event NY - the product
 ion company which has called the space home for several years. This indoor
  structure tour will meet in and depart from the Live Event NY Showroom\, 
 located at One South Broad Street.
DTSTART;TZID=America/New_York:20250907T140000
DTEND;TZID=America/New_York:20250907T150000
LOCATION:Live Event NY\, One South Broad Street\, Norwich\, NY 13815 US
SUMMARY:Local Treasures Revealed: Living Among History
END:VEVENT
END:VCALENDAR
