BEGIN:VCALENDAR
VERSION:2.0
PRODID:-//www.chenangoarts.org//NONSGML kigkonsult.se iCalcreator 2.30.10//
CALSCALE:GREGORIAN
METHOD:PUBLISH
UID:eb8789b1-4f08-4802-86a2-14dd2119e5f0
X-WR-CALDESC:In the spirit of the Colorscape Chenango Arts Festival's creat
 ive endeavors\, join architectural historian Bryan McCracken for walking t
 ours of culturally and historically significant community spaces\, includi
 ng commerce\, houses of worship\, government\, transportation\, and public
  recreation.
X-WR-RELCALID:9e7e1ddcbd04e9b161ed5102558a9df0
X-WR-TIMEZONE:America/New_York
BEGIN:VTIMEZONE
TZID:America/New_York
BEGIN:STANDARD
TZNAME:EST
DTSTART:20241103T020000
TZOFFSETFROM:-0400
TZOFFSETTO:-0500
RDATE:20251102T020000
RDATE:20261101T020000
END:STANDARD
BEGIN:DAYLIGHT
TZNAME:EDT
DTSTART:20250309T020000
TZOFFSETFROM:-0500
TZOFFSETTO:-0400
RDATE:20260308T020000
END:DAYLIGHT
END:VTIMEZONE
BEGIN:VEVENT
UID:74cc9860-ee4b-4633-bff5-9e05522103d8
DTSTAMP:20260421T114313Z
DESCRIPTION:In the spirit of the Colorscape Chenango Arts Festival's creati
 ve endeavors\, join architectural historian Bryan McCracken for walking to
 urs of culturally and historically significant community spaces\, includin
 g commerce\, houses of worship\, government\, transportation\, and public 
 recreation.
DTSTART;TZID=America/New_York:20250907T123000
DTEND;TZID=America/New_York:20250907T133000
LOCATION:East Park Pavilion\, Norwich\, NY 13815 US
SUMMARY:Historic Architecture in the Seat of Chenango County
END:VEVENT
END:VCALENDAR
