BEGIN:VCALENDAR
VERSION:2.0
PRODID:-//www.chenangoarts.org//NONSGML kigkonsult.se iCalcreator 2.30.10//
CALSCALE:GREGORIAN
METHOD:PUBLISH
UID:c7ee18fa-29b0-4a24-9cf3-56adaa2a7c85
X-WR-CALDESC:Featuring presentations by professional and amateur archaeolog
 ists\, historians\, field trips\, work on local digs\, and publications.
X-WR-RELCALID:2f4cd572bf8b85fdf09622248c51428a
X-WR-TIMEZONE:America/New_York
BEGIN:VTIMEZONE
TZID:America/New_York
BEGIN:STANDARD
TZNAME:EST
DTSTART:20241103T020000
TZOFFSETFROM:-0400
TZOFFSETTO:-0500
RDATE:20251102T020000
RDATE:20261101T020000
END:STANDARD
BEGIN:DAYLIGHT
TZNAME:EDT
DTSTART:20250309T020000
TZOFFSETFROM:-0500
TZOFFSETTO:-0400
RDATE:20260308T020000
END:DAYLIGHT
END:VTIMEZONE
BEGIN:VEVENT
UID:7ea5ef88-4167-4dc5-911f-8deee9120674
DTSTAMP:20260421T115327Z
DESCRIPTION:Featuring presentations by professional and amateur archaeologi
 sts\, historians\, field trips\, work on local digs\, and publications.
DTSTART;TZID=America/New_York:20250904T190000
DTEND;TZID=America/New_York:20250904T200000
LOCATION:James S. Flanagan Research Center\, 45 Rexford Street\, Norwich\, 
 NY 13815 US
SUMMARY:NYS Archaeological Association\, Chenango Chapter
END:VEVENT
END:VCALENDAR
