BEGIN:VCALENDAR
VERSION:2.0
PRODID:-//www.chenangoarts.org//NONSGML kigkonsult.se iCalcreator 2.30.10//
CALSCALE:GREGORIAN
METHOD:PUBLISH
UID:495dd1ae-b1d5-48dc-b430-6f056f322c1a
X-WR-CALDESC:Join special guests from the Oneida Indian Nation and the Mati
 lda Joslyn Gage Center to experience the tremendous impact that the matria
 rchal Haudenosaunee leaders had on the female American suffragettes\, and 
 how this relationship directly influenced the 1920 adoption of the Ninetee
 nth Amendment to the United States Constitution.
X-WR-RELCALID:9bbdc45f816ee001eebb4871679ed51c
X-WR-TIMEZONE:America/New_York
BEGIN:VTIMEZONE
TZID:America/New_York
BEGIN:STANDARD
TZNAME:EST
DTSTART:20241103T020000
TZOFFSETFROM:-0400
TZOFFSETTO:-0500
RDATE:20251102T020000
RDATE:20261101T020000
END:STANDARD
BEGIN:DAYLIGHT
TZNAME:EDT
DTSTART:20250309T020000
TZOFFSETFROM:-0500
TZOFFSETTO:-0400
RDATE:20260308T020000
END:DAYLIGHT
END:VTIMEZONE
BEGIN:VEVENT
UID:70d718ec-9de4-42e5-953b-2b2c429f253e
DTSTAMP:20260421T131850Z
DESCRIPTION:Join special guests from the Oneida Indian Nation and the Matil
 da Joslyn Gage Center to experience the tremendous impact that the matriar
 chal Haudenosaunee leaders had on the female American suffragettes\, and h
 ow this relationship directly influenced the 1920 adoption of the Nineteen
 th Amendment to the United States Constitution.
DTSTART;TZID=America/New_York:20250826T173000
DTEND;TZID=America/New_York:20250826T200000
LOCATION:Chenango County Historical Society\, 43 Rexford Street\, Norwich\,
  NY 13815 US
SUMMARY:Women's Equality Day Celebration
END:VEVENT
END:VCALENDAR
