BEGIN:VCALENDAR
VERSION:2.0
PRODID:-//www.chenangoarts.org//NONSGML kigkonsult.se iCalcreator 2.30.10//
CALSCALE:GREGORIAN
METHOD:PUBLISH
UID:afe9f3c7-1885-4afc-a05d-c793bd0ce519
X-WR-CALDESC:FREE INITIAL INFORMATION SESSION/WORKSHOP – Saturday\, July 19
 th from 1:00 – 2:00PM at The Chenango Arts Council. Learn about creating a
 nd performing street theater.  Click below to register or call Chenango Ar
 ts Council (607-336-2787).  Walk-ins accepted. \n\nAUG-SEP REHEARSALS & SH
 OW – Join Gregson Theater’s Barbara Gregson\, director and Eric Porter\, m
 usician at the Chenango Arts Council for 6 rehearsals in August leading to
  a street theater production early September in Norwich\, NY.  You will le
 arn how to create\, write and perform an original theater piece using mime
 \, masks\, music and a moveable set\, which can be used to perform outside
 \, anywhere and everywhere. \n\nThis project is funded by Earlville Opera 
 House's Arts in the Community Grants Program\, made possible by the NYS Le
 gislature with support of the Office of the Governor\, and administered by
  the New York State Council on the Arts.
X-WR-RELCALID:303432cbc491095e1fdf02fb9aaabfa3
X-WR-TIMEZONE:America/New_York
BEGIN:VTIMEZONE
TZID:America/New_York
BEGIN:STANDARD
TZNAME:EST
DTSTART:20241103T020000
TZOFFSETFROM:-0400
TZOFFSETTO:-0500
RDATE:20251102T020000
RDATE:20261101T020000
END:STANDARD
BEGIN:DAYLIGHT
TZNAME:EDT
DTSTART:20250309T020000
TZOFFSETFROM:-0500
TZOFFSETTO:-0400
RDATE:20260308T020000
END:DAYLIGHT
END:VTIMEZONE
BEGIN:VEVENT
UID:9830bbe4-0a6d-428e-adb6-8c3e87f36a57
DTSTAMP:20260421T143829Z
DESCRIPTION:FREE INITIAL INFORMATION SESSION/WORKSHOP – Saturday\, July 19t
 h from 1:00 – 2:00PM at The Chenango Arts Council. Learn about creating an
 d performing street theater.  Click below to register or call Chenango Art
 s Council (607-336-2787).  Walk-ins accepted. \n\nAUG-SEP REHEARSALS & SHO
 W – Join Gregson Theater’s Barbara Gregson\, director and Eric Porter\, mu
 sician at the Chenango Arts Council for 6 rehearsals in August leading to 
 a street theater production early September in Norwich\, NY.  You will lea
 rn how to create\, write and perform an original theater piece using mime\
 , masks\, music and a moveable set\, which can be used to perform outside\
 , anywhere and everywhere. \n\nThis project is funded by Earlville Opera H
 ouse's Arts in the Community Grants Program\, made possible by the NYS Leg
 islature with support of the Office of the Governor\, and administered by 
 the New York State Council on the Arts.
DTSTART;TZID=America/New_York:20250726T110000
DTEND;TZID=America/New_York:20250726T123000
LOCATION:Chenango Arts Council\, 27 West Main Street\, Norwich\, NY 13815 U
 S
SUMMARY:Learn and Perform Street Theater with Gregson Theater Information S
 ession
END:VEVENT
END:VCALENDAR
