BEGIN:VCALENDAR
VERSION:2.0
PRODID:-//www.chenangoarts.org//NONSGML kigkonsult.se iCalcreator 2.30.10//
CALSCALE:GREGORIAN
METHOD:PUBLISH
UID:9af53981-1be4-4db9-b203-5e7493facc0b
X-WR-CALDESC:2025 SAMMY (Syracuse Area Music Awards) Awarded Musician!!\n\n
 Jess Novak is a triple threat singer\, songwriter\, multi-instrumentalist.
  With a shredding electric fiddle\, powerful vocals and captivating songs\
 , Novak is a force in any formation: solo\, duo or band. Having touched au
 diences across the country – from Burlington\, VT to Key West\, FL to San 
 Diego\, CA – Novak plays more than 150 shows every year and has released 1
 3 original albums\, and a book\, to date.\n\nNovak has played such prestig
 ious rooms as The Cutting Room (NYC)\, The Saint (Asbury Park) and Nectar'
 s (Burlington\, VT). She opened the 23rd Annual Chenango Blues Festival (w
 ith headliner\, Ronnie Earl) and has performed with groups and artists inc
 luding Devon Allman\, Mike Zito\, Tas Cru\, Jimmy Hall\, Ghost Town Blues 
 Band and members of Butch Trucks and the Freight Train Band. Novak has als
 o opened for acts including Melanie\, Danielle Ponder\, Ruthie Foster and 
 Grace Potter.\n\nThis year\, we are excited to have an All-Women Superstar
  Series!! With these three amazing performances\, we have a special pricin
 g (SAVE 10%) when you buy tickets to all three at the same time with our s
 pecial bundle!!\n\nSpecial thanks to Sidney Federal Credit Union for spons
 oring our 2025 Summer Courtyard Series!\n\nEarlville Opera House is locate
 d at 18 East Main Street in the quaint Village of Earlville\, NY. At EOH w
 e believe accessibility & inclusion are critical to everything we do. Our 
 historic Opera House has been upgraded to ensure accessibility throughout 
 the building\, including a hearing loop system in our 1892 theater provide
 d by Hamilton Hearing LLC.\n \nEOH events are made possible by the Office 
 of the Governor and NYS Legislature\, with support from New York State Cou
 ncil on the Arts\, and through the generosity of EOH members.\n\nTICKETS: 
 $20 General / $18 Members\, College Students get half off with presenting 
 their valid Student ID\, $10 for students 17 years and younger.\n
X-WR-RELCALID:8283907d59eb770fddfdabd043388273
X-WR-TIMEZONE:America/New_York
BEGIN:VTIMEZONE
TZID:America/New_York
BEGIN:STANDARD
TZNAME:EST
DTSTART:20241103T020000
TZOFFSETFROM:-0400
TZOFFSETTO:-0500
RDATE:20251102T020000
RDATE:20261101T020000
END:STANDARD
BEGIN:DAYLIGHT
TZNAME:EDT
DTSTART:20250309T020000
TZOFFSETFROM:-0500
TZOFFSETTO:-0400
RDATE:20260308T020000
END:DAYLIGHT
END:VTIMEZONE
BEGIN:VEVENT
UID:3a00ea2a-960c-4469-b683-d663f737a296
DTSTAMP:20260421T144141Z
DESCRIPTION:2025 SAMMY (Syracuse Area Music Awards) Awarded Musician!!\n\nJ
 ess Novak is a triple threat singer\, songwriter\, multi-instrumentalist. 
 With a shredding electric fiddle\, powerful vocals and captivating songs\,
  Novak is a force in any formation: solo\, duo or band. Having touched aud
 iences across the country – from Burlington\, VT to Key West\, FL to San D
 iego\, CA – Novak plays more than 150 shows every year and has released 13
  original albums\, and a book\, to date.\n\nNovak has played such prestigi
 ous rooms as The Cutting Room (NYC)\, The Saint (Asbury Park) and Nectar's
  (Burlington\, VT). She opened the 23rd Annual Chenango Blues Festival (wi
 th headliner\, Ronnie Earl) and has performed with groups and artists incl
 uding Devon Allman\, Mike Zito\, Tas Cru\, Jimmy Hall\, Ghost Town Blues B
 and and members of Butch Trucks and the Freight Train Band. Novak has also
  opened for acts including Melanie\, Danielle Ponder\, Ruthie Foster and G
 race Potter.\n\nThis year\, we are excited to have an All-Women Superstar 
 Series!! With these three amazing performances\, we have a special pricing
  (SAVE 10%) when you buy tickets to all three at the same time with our sp
 ecial bundle!!\n\nSpecial thanks to Sidney Federal Credit Union for sponso
 ring our 2025 Summer Courtyard Series!\n\nEarlville Opera House is located
  at 18 East Main Street in the quaint Village of Earlville\, NY. At EOH we
  believe accessibility & inclusion are critical to everything we do. Our h
 istoric Opera House has been upgraded to ensure accessibility throughout t
 he building\, including a hearing loop system in our 1892 theater provided
  by Hamilton Hearing LLC.\n \nEOH events are made possible by the Office o
 f the Governor and NYS Legislature\, with support from New York State Coun
 cil on the Arts\, and through the generosity of EOH members.\n\nTICKETS: $
 20 General / $18 Members\, College Students get half off with presenting t
 heir valid Student ID\, $10 for students 17 years and younger.\n
DTSTART;TZID=America/New_York:20250712T190000
DTEND;TZID=America/New_York:20250712T210000
LOCATION:Earlville Opera House\, 18 East Main Street\, Earlville\, NY 13332
  US
SUMMARY:Jess Novak at the Earlville Opera House
END:VEVENT
END:VCALENDAR
