BEGIN:VCALENDAR
VERSION:2.0
PRODID:-//www.chenangoarts.org//NONSGML kigkonsult.se iCalcreator 2.30.10//
CALSCALE:GREGORIAN
METHOD:PUBLISH
UID:a17fac5c-500a-41bd-8de7-6e8d50019709
X-WR-CALDESC:Featuring presentations by professional and amateur archaeolog
 ists\, historians\, field trips\, work on local digs\, and publications.
X-WR-RELCALID:c10edc3b0ca9ecb03a5f01cbe3992c52
X-WR-TIMEZONE:America/New_York
BEGIN:VTIMEZONE
TZID:America/New_York
BEGIN:STANDARD
TZNAME:EST
DTSTART:20241103T020000
TZOFFSETFROM:-0400
TZOFFSETTO:-0500
RDATE:20251102T020000
RDATE:20261101T020000
END:STANDARD
BEGIN:DAYLIGHT
TZNAME:EDT
DTSTART:20250309T020000
TZOFFSETFROM:-0500
TZOFFSETTO:-0400
RDATE:20260308T020000
END:DAYLIGHT
END:VTIMEZONE
BEGIN:VEVENT
UID:8bc2e8c4-f37b-4d61-bf0e-cd92545c2b4d
DTSTAMP:20260421T145517Z
DESCRIPTION:Featuring presentations by professional and amateur archaeologi
 sts\, historians\, field trips\, work on local digs\, and publications.
DTSTART;TZID=America/New_York:20250703T190000
DTEND;TZID=America/New_York:20250703T200000
LOCATION:James S. Flanagan Research Center\, 43 Rexford Street\, Norwich\, 
 NY 13815 US
SUMMARY:NYS Archaeological Association\, Chenango Chapter
END:VEVENT
END:VCALENDAR
