BEGIN:VCALENDAR
VERSION:2.0
PRODID:-//www.chenangoarts.org//NONSGML kigkonsult.se iCalcreator 2.30.10//
CALSCALE:GREGORIAN
METHOD:PUBLISH
UID:39529a9c-fb36-42ba-8388-3fdd3d4b9265
X-WR-CALDESC:Enjoy an evening of friends\, food\, and fun to benefit CCHS! 
 This year’s theme is inspired by our newest Community Gallery exhibit\, “C
 reativity in Bloom: The Storied Illustrations of Suzanne Bloom.” In keepin
 g with this summer tradition\, Live Event NY is coordinating festivities\,
  which will feature music by The Eddie & Bird Dog Show\, with photos by 5t
 h Dimension Photography. Party guests will enjoy a delicious reception cat
 ered by the Canasawacta Country Club. Local establishments - including Bet
 ter Daze Winery\, Bittersweet Farm Brewery\, Forged Brewing Company\, Good
  Nature Brewing\, Old Home Distillers\, and Uncommon Kin Cidery - will off
 er complimentary beverage tastings.
X-WR-RELCALID:f6bcfb085c10489dc3896d2e357c4b79
X-WR-TIMEZONE:America/New_York
BEGIN:VTIMEZONE
TZID:America/New_York
BEGIN:STANDARD
TZNAME:EST
DTSTART:20241103T020000
TZOFFSETFROM:-0400
TZOFFSETTO:-0500
RDATE:20251102T020000
RDATE:20261101T020000
END:STANDARD
BEGIN:DAYLIGHT
TZNAME:EDT
DTSTART:20250309T020000
TZOFFSETFROM:-0500
TZOFFSETTO:-0400
RDATE:20260308T020000
END:DAYLIGHT
END:VTIMEZONE
BEGIN:VEVENT
UID:fe19e0e6-446a-49ef-8b2f-7556848587ca
DTSTAMP:20260421T164503Z
DESCRIPTION:Enjoy an evening of friends\, food\, and fun to benefit CCHS! T
 his year’s theme is inspired by our newest Community Gallery exhibit\, “Cr
 eativity in Bloom: The Storied Illustrations of Suzanne Bloom.” In keeping
  with this summer tradition\, Live Event NY is coordinating festivities\, 
 which will feature music by The Eddie & Bird Dog Show\, with photos by 5th
  Dimension Photography. Party guests will enjoy a delicious reception cate
 red by the Canasawacta Country Club. Local establishments - including Bett
 er Daze Winery\, Bittersweet Farm Brewery\, Forged Brewing Company\, Good 
 Nature Brewing\, Old Home Distillers\, and Uncommon Kin Cidery - will offe
 r complimentary beverage tastings.
DTSTART;TZID=America/New_York:20250626T180000
DTEND;TZID=America/New_York:20250626T203000
LOCATION:The Loomis Barn\, 43 Rexford Street\, Norwich\, NY 13815 US
SUMMARY:Summer Barn Party
END:VEVENT
END:VCALENDAR
