BEGIN:VCALENDAR
VERSION:2.0
PRODID:-//www.chenangoarts.org//NONSGML kigkonsult.se iCalcreator 2.30.10//
CALSCALE:GREGORIAN
METHOD:PUBLISH
UID:c3ecd2a2-784f-4b13-8c91-bb08b0c3c51f
X-WR-CALDESC:Welcome summer with our free family picnic! Create 'A Mighty F
 ine Time Machine' with children's author and illustrator Suzanne Bloom and
  meet Sprout from SFCU. Celebrate the arrival of our annual Journal and th
 is year's Elinor Robb Troicke Memorial Scholarship recipients. Enjoy lunch
  prepared by DCMO BOCES culinary students and snacks donated by Chobani an
 d Frito-Lay. Additional concessions will be available for purchase from Ka
 ndi's Kitchen.\n\nRegistration is required. The first 75 families to regis
 ter will receive a free picnic blanket!\n\nDuring “Path Through History We
 ekend\,” special events such as this celebration highlight historically an
 d culturally significant sites in order to offer new perspectives on New Y
 ork State’s heritage.\n
X-WR-RELCALID:69fbed564aff2527dc105de36d056bb9
X-WR-TIMEZONE:America/New_York
BEGIN:VTIMEZONE
TZID:America/New_York
BEGIN:STANDARD
TZNAME:EST
DTSTART:20241103T020000
TZOFFSETFROM:-0400
TZOFFSETTO:-0500
RDATE:20251102T020000
RDATE:20261101T020000
END:STANDARD
BEGIN:DAYLIGHT
TZNAME:EDT
DTSTART:20250309T020000
TZOFFSETFROM:-0500
TZOFFSETTO:-0400
RDATE:20260308T020000
END:DAYLIGHT
END:VTIMEZONE
BEGIN:VEVENT
UID:f604b1d8-b78d-42cd-be35-4c2c086faa09
DTSTAMP:20260421T164431Z
DESCRIPTION:Welcome summer with our free family picnic! Create 'A Mighty Fi
 ne Time Machine' with children's author and illustrator Suzanne Bloom and 
 meet Sprout from SFCU. Celebrate the arrival of our annual Journal and thi
 s year's Elinor Robb Troicke Memorial Scholarship recipients. Enjoy lunch 
 prepared by DCMO BOCES culinary students and snacks donated by Chobani and
  Frito-Lay. Additional concessions will be available for purchase from Kan
 di's Kitchen.\n\nRegistration is required. The first 75 families to regist
 er will receive a free picnic blanket!\n\nDuring “Path Through History Wee
 kend\,” special events such as this celebration highlight historically and
  culturally significant sites in order to offer new perspectives on New Yo
 rk State’s heritage.\n
DTSTART;TZID=America/New_York:20250616T123000
DTEND;TZID=America/New_York:20250616T143000
LOCATION:45 Rexford Street\, Norwich\, NY 13815 US
SUMMARY:Path Through History Celebration: Summer Barn Picnic
END:VEVENT
END:VCALENDAR
