BEGIN:VCALENDAR
VERSION:2.0
PRODID:-//www.chenangoarts.org//NONSGML kigkonsult.se iCalcreator 2.30.10//
CALSCALE:GREGORIAN
METHOD:PUBLISH
UID:78603aaa-fab0-4483-b904-f2e053c18627
X-WR-CALDESC:All Veterans who attend the Norwich 'Hometown Heroes' Banner I
 nstallation Ceremony in East Park - who then visit Lt. Warren E. Eaton Air
 port Day - will be eligible to win one of two complimentary rides availabl
 e on 'Whiskey 7' which are being sponsored by Clear Path For Veterans.
X-WR-RELCALID:719586e53abc61d3428b6e0359c389d5
X-WR-TIMEZONE:America/New_York
BEGIN:VTIMEZONE
TZID:America/New_York
BEGIN:STANDARD
TZNAME:EST
DTSTART:20241103T020000
TZOFFSETFROM:-0400
TZOFFSETTO:-0500
RDATE:20251102T020000
RDATE:20261101T020000
END:STANDARD
BEGIN:DAYLIGHT
TZNAME:EDT
DTSTART:20250309T020000
TZOFFSETFROM:-0500
TZOFFSETTO:-0400
RDATE:20260308T020000
END:DAYLIGHT
END:VTIMEZONE
BEGIN:VEVENT
UID:247e4b46-0ea9-4a9b-ac40-03f2d56c0a53
DTSTAMP:20260421T164128Z
DESCRIPTION:All Veterans who attend the Norwich 'Hometown Heroes' Banner In
 stallation Ceremony in East Park - who then visit Lt. Warren E. Eaton Airp
 ort Day - will be eligible to win one of two complimentary rides available
  on 'Whiskey 7' which are being sponsored by Clear Path For Veterans.
DTSTART;TZID=America/New_York:20250614T100000
DTEND;TZID=America/New_York:20250614T150000
LOCATION:East Park Pavilion\, 79 East Park Place\, Norwich\, NY 13815 US
SUMMARY:Celebrate Flag Day
END:VEVENT
END:VCALENDAR
