BEGIN:VCALENDAR
VERSION:2.0
PRODID:-//www.chenangoarts.org//NONSGML kigkonsult.se iCalcreator 2.30.10//
CALSCALE:GREGORIAN
METHOD:PUBLISH
UID:9d2ffa8f-5851-41e7-b859-75334bb24a85
X-WR-CALDESC:Hot Process DIY Crock Pot Soap Making:\nDuring this hands-on w
 orkshop\, you'll learn the secrets of combining oils\, lye\, and other nat
 ural components to create your own personalized soap with locally sourced 
 herbs in a crock pot. Unleash your creativity by experimenting with differ
 ent essential oils for scent and natural colorants for a visually stunning
  finish.\nEach participant will go home with 2 molds of soap.  All supplie
 s included! $15 for Members. $20 for Non-Members. Register at ChenangoArts
 .org.
X-WR-RELCALID:e02ca1bc067fc7e2dd16c60c09ba2e4f
X-WR-TIMEZONE:America/New_York
BEGIN:VTIMEZONE
TZID:America/New_York
BEGIN:STANDARD
TZNAME:EST
DTSTART:20241103T020000
TZOFFSETFROM:-0400
TZOFFSETTO:-0500
RDATE:20251102T020000
RDATE:20261101T020000
END:STANDARD
BEGIN:DAYLIGHT
TZNAME:EDT
DTSTART:20250309T020000
TZOFFSETFROM:-0500
TZOFFSETTO:-0400
RDATE:20260308T020000
END:DAYLIGHT
END:VTIMEZONE
BEGIN:VEVENT
UID:a046ec39-2493-496e-971b-f48c330f0a73
DTSTAMP:20260421T164405Z
DESCRIPTION:Hot Process DIY Crock Pot Soap Making:\nDuring this hands-on wo
 rkshop\, you'll learn the secrets of combining oils\, lye\, and other natu
 ral components to create your own personalized soap with locally sourced h
 erbs in a crock pot. Unleash your creativity by experimenting with differe
 nt essential oils for scent and natural colorants for a visually stunning 
 finish.\nEach participant will go home with 2 molds of soap.  All supplies
  included! $15 for Members. $20 for Non-Members. Register at ChenangoArts.
 org.
DTSTART;TZID=America/New_York:20250612T180000
DTEND;TZID=America/New_York:20250612T200000
LOCATION:27 West Main Street\, Norwich NY 13815\, Norwich\, NY 13815 US
SUMMARY:DYI Soap Making with Ashe Martin
END:VEVENT
END:VCALENDAR
