BEGIN:VCALENDAR
VERSION:2.0
PRODID:-//www.chenangoarts.org//NONSGML kigkonsult.se iCalcreator 2.30.10//
CALSCALE:GREGORIAN
METHOD:PUBLISH
UID:1ad00639-e220-43fc-ac1a-4bcd53129faf
X-WR-CALDESC:Join sculptress Linda Kays-Biviano for a magical 4-week class 
 where you’ll create your very own House Fairy—a whimsical guardian meant t
 o protect your home while you’re away.\n\nIn this hands-on class\, student
 s will learn to sculpt the head\, hands\, and feet using polymer clay\, an
 d build a poseable wire-wrapped armature body. Costuming will be created t
 hrough simple draping techniques with minimal hand sewing. You’ll also lea
 rn how to craft beautiful\, ethereal wings using fantasy film.\n\nBy the e
 nd of the course\, each student will complete a one-of-a-kind fairy to tak
 e home and treasure for years to come.\n\nClass Details:\n	•	Two sessions ar
 e available! Tuesdays June 10-July 1 or Wednesdays June 2- July 2\, 2025\,
  6:30–8:30 PM\n	•	Where: Chenango County Council of the Arts\n	•	Instructor: L
 inda Kays-Biviano\n	•	All skill levels welcome!\n\nCome create something mag
 ical! PS: materials are included\, however\, bring your own scissors and\,
  if you have one\, a hot glue gun (The Arts Council has both!)\n\n\n
X-WR-RELCALID:1c2e2b70a4fcc5b26854f3f4d0c99015
X-WR-TIMEZONE:America/New_York
BEGIN:VTIMEZONE
TZID:America/New_York
BEGIN:STANDARD
TZNAME:EST
DTSTART:20241103T020000
TZOFFSETFROM:-0400
TZOFFSETTO:-0500
RDATE:20251102T020000
RDATE:20261101T020000
END:STANDARD
BEGIN:DAYLIGHT
TZNAME:EDT
DTSTART:20250309T020000
TZOFFSETFROM:-0500
TZOFFSETTO:-0400
RDATE:20260308T020000
END:DAYLIGHT
END:VTIMEZONE
BEGIN:VEVENT
UID:53741127-00ad-41fc-b239-dc12f533a7a0
DTSTAMP:20260421T143830Z
DESCRIPTION:Join sculptress Linda Kays-Biviano for a magical 4-week class w
 here you’ll create your very own House Fairy—a whimsical guardian meant to
  protect your home while you’re away.\n\nIn this hands-on class\, students
  will learn to sculpt the head\, hands\, and feet using polymer clay\, and
  build a poseable wire-wrapped armature body. Costuming will be created th
 rough simple draping techniques with minimal hand sewing. You’ll also lear
 n how to craft beautiful\, ethereal wings using fantasy film.\n\nBy the en
 d of the course\, each student will complete a one-of-a-kind fairy to take
  home and treasure for years to come.\n\nClass Details:\n	•	Two sessions are
  available! Tuesdays June 10-July 1 or Wednesdays June 2- July 2\, 2025\, 
 6:30–8:30 PM\n	•	Where: Chenango County Council of the Arts\n	•	Instructor: Li
 nda Kays-Biviano\n	•	All skill levels welcome!\n\nCome create something magi
 cal! PS: materials are included\, however\, bring your own scissors and\, 
 if you have one\, a hot glue gun (The Arts Council has both!)\n\n\n
DTSTART;TZID=America/New_York:20250610T180000
DTEND;TZID=America/New_York:20250703T190000
LOCATION:27 West Main Street\, Norwich NY 13815\, Norwich\, NY 13815 US
SUMMARY:Sculpt Your Own House Fairy with Linda Kays-Biviano
END:VEVENT
END:VCALENDAR
