BEGIN:VCALENDAR
VERSION:2.0
PRODID:-//www.chenangoarts.org//NONSGML kigkonsult.se iCalcreator 2.30.10//
CALSCALE:GREGORIAN
METHOD:PUBLISH
UID:ba3d4bb9-4497-408b-baf9-6cd6a220efbf
X-WR-CALDESC:Just in time for Mothers' Day\, create your own candles as a g
 ift or incredible experience! All supplies included!
X-WR-RELCALID:813a916b2e58f41c82696f1e7cdea5ac
X-WR-TIMEZONE:America/New_York
BEGIN:VTIMEZONE
TZID:America/New_York
BEGIN:STANDARD
TZNAME:EST
DTSTART:20241103T020000
TZOFFSETFROM:-0400
TZOFFSETTO:-0500
RDATE:20251102T020000
RDATE:20261101T020000
END:STANDARD
BEGIN:DAYLIGHT
TZNAME:EDT
DTSTART:20250309T020000
TZOFFSETFROM:-0500
TZOFFSETTO:-0400
RDATE:20260308T020000
END:DAYLIGHT
END:VTIMEZONE
BEGIN:VEVENT
UID:f63215e1-ca2e-455e-8429-9bf8cee3421f
DTSTAMP:20260421T184130Z
DESCRIPTION:Just in time for Mothers' Day\, create your own candles as a gi
 ft or incredible experience! All supplies included!
DTSTART;TZID=America/New_York:20250503T130000
DTEND;TZID=America/New_York:20250503T150000
LOCATION:27 West Main Street\, Norwich\, NY 13815 US
SUMMARY:Mothers' Day Candle Making
END:VEVENT
END:VCALENDAR
