BEGIN:VCALENDAR
VERSION:2.0
PRODID:-//www.chenangoarts.org//NONSGML kigkonsult.se iCalcreator 2.30.10//
CALSCALE:GREGORIAN
METHOD:PUBLISH
UID:54e91543-4b1b-4099-a721-a48d68c83ed0
X-WR-CALDESC:Join Esperanza Roncero as she demonstrates exciting projects! 
 You will learn to make plates\, flowerpots\, trivets\, paintings on clay\,
  sculpture pieces for the wall or the table and hand building projects. Mo
 st supplies are included but bring your rolling pin!\n
X-WR-RELCALID:669edc132859e2a9978ca5ff25a3783f
X-WR-TIMEZONE:America/New_York
BEGIN:VTIMEZONE
TZID:America/New_York
BEGIN:STANDARD
TZNAME:EST
DTSTART:20241103T020000
TZOFFSETFROM:-0400
TZOFFSETTO:-0500
RDATE:20251102T020000
END:STANDARD
BEGIN:DAYLIGHT
TZNAME:EDT
DTSTART:20250309T020000
TZOFFSETFROM:-0500
TZOFFSETTO:-0400
RDATE:20260308T020000
END:DAYLIGHT
END:VTIMEZONE
BEGIN:VEVENT
UID:bde656f8-92d8-4916-a57e-301af5f892cb
DTSTAMP:20260421T195242Z
DESCRIPTION:Join Esperanza Roncero as she demonstrates exciting projects! Y
 ou will learn to make plates\, flowerpots\, trivets\, paintings on clay\, 
 sculpture pieces for the wall or the table and hand building projects. Mos
 t supplies are included but bring your rolling pin!\n
DTSTART;TZID=America/New_York:20250429T180000
DTEND;TZID=America/New_York:20250429T200000
LOCATION:27 West Main Street\, Norwich\, NY 13815 US
SUMMARY:Hand Ceramics
END:VEVENT
END:VCALENDAR
