BEGIN:VCALENDAR
VERSION:2.0
PRODID:-//www.chenangoarts.org//NONSGML kigkonsult.se iCalcreator 2.30.10//
CALSCALE:GREGORIAN
METHOD:PUBLISH
UID:b7cc8c79-450b-4f65-b5ce-20fb948b33f0
X-WR-CALDESC:This four-week poetry writing workshop\, Poetry Writing for\n 
 Self-Expression\, is designed to guide participants through the exploratio
 n of their inner truths\n and emotions. Each week focuses on a distinct th
 eme—preparing to write\, gratitude\, loss and\n healing\, and personal tru
 th—providing tools and exercises to cultivate self-expression\,\n mindfuln
 ess\, and authentic creativity. Inspired by Diana Raab’s Writing for Bliss
 \, the course\n fosters a safe and supportive environment for participants
  to connect with their humanity and\n craft compelling poetry
X-WR-RELCALID:a99374e6a0da73181e0da5ce172c4405
X-WR-TIMEZONE:America/New_York
BEGIN:VTIMEZONE
TZID:America/New_York
BEGIN:STANDARD
TZNAME:EST
DTSTART:20241103T020000
TZOFFSETFROM:-0400
TZOFFSETTO:-0500
RDATE:20251102T020000
END:STANDARD
BEGIN:DAYLIGHT
TZNAME:EDT
DTSTART:20240310T020000
TZOFFSETFROM:-0500
TZOFFSETTO:-0400
RDATE:20250309T020000
RDATE:20260308T020000
END:DAYLIGHT
END:VTIMEZONE
BEGIN:VEVENT
UID:5afe9a78-7abe-4c45-9bdc-352b75b97487
DTSTAMP:20260421T212955Z
DESCRIPTION:This four-week poetry writing workshop\, Poetry Writing for\n S
 elf-Expression\, is designed to guide participants through the exploration
  of their inner truths\n and emotions. Each week focuses on a distinct the
 me—preparing to write\, gratitude\, loss and\n healing\, and personal trut
 h—providing tools and exercises to cultivate self-expression\,\n mindfulne
 ss\, and authentic creativity. Inspired by Diana Raab’s Writing for Bliss\
 , the course\n fosters a safe and supportive environment for participants 
 to connect with their humanity and\n craft compelling poetry
DTSTART;TZID=America/New_York:20250306T180000
DTEND;TZID=America/New_York:20250327T200000
LOCATION:27 West Main Street\, Norwich\, AL 13815 US
SUMMARY:Poetry Writing for Self Expression
END:VEVENT
END:VCALENDAR
