BEGIN:VCALENDAR
VERSION:2.0
PRODID:-//www.chenangoarts.org//NONSGML kigkonsult.se iCalcreator 2.30.10//
CALSCALE:GREGORIAN
METHOD:PUBLISH
UID:33e389f5-2126-4a53-9629-56e563bbdbe8
X-WR-CALDESC:Teaching artist Linda Kays Biviano leads you through making yo
 ur very own leprechaun! All supplies are included. Chenango Arts Council’s
  programs are made possible by the New York State Council on the Arts with
  the support of the Office of the Governor and the New York State Legislat
 ure. Special thanks to the Roger Follett Foundation. \n
X-WR-RELCALID:d53492067b07736bffc719265525537d
X-WR-TIMEZONE:America/New_York
BEGIN:VTIMEZONE
TZID:America/New_York
BEGIN:STANDARD
TZNAME:EST
DTSTART:20241103T020000
TZOFFSETFROM:-0400
TZOFFSETTO:-0500
RDATE:20251102T020000
END:STANDARD
BEGIN:DAYLIGHT
TZNAME:EDT
DTSTART:20240310T020000
TZOFFSETFROM:-0500
TZOFFSETTO:-0400
RDATE:20250309T020000
RDATE:20260308T020000
END:DAYLIGHT
END:VTIMEZONE
BEGIN:VEVENT
UID:3e98b359-0b19-4c38-b12b-7b78a01a764c
DTSTAMP:20260421T210427Z
DESCRIPTION:Teaching artist Linda Kays Biviano leads you through making you
 r very own leprechaun! All supplies are included. Chenango Arts Council’s 
 programs are made possible by the New York State Council on the Arts with 
 the support of the Office of the Governor and the New York State Legislatu
 re. Special thanks to the Roger Follett Foundation. \n
DTSTART;TZID=America/New_York:20250226T180000
DTEND;TZID=America/New_York:20250319T200000
LOCATION:27 West Main Street\, Norwich\, NY 13815 US
SUMMARY:Make Your Own Leprechaun with Linda Kays Biviano
END:VEVENT
END:VCALENDAR
