BEGIN:VCALENDAR
VERSION:2.0
PRODID:-//www.chenangoarts.org//NONSGML kigkonsult.se iCalcreator 2.30.10//
CALSCALE:GREGORIAN
METHOD:PUBLISH
UID:3365f86c-3bc2-4338-a882-eb74f52d723b
X-WR-CALDESC:Beat the winter blues with the crochet class at Chenango Arts 
 Council! Pat Horton teaches you how to crochet your own keyhole scarf! $12
  for members\, $15 for non-members. All supplies included. Special thanks 
 to the Roger Follett Foundation.
X-WR-RELCALID:3e19c610c0c2b653833bd2581b7353bf
X-WR-TIMEZONE:America/New_York
BEGIN:VTIMEZONE
TZID:America/New_York
BEGIN:STANDARD
TZNAME:EST
DTSTART:20241103T020000
TZOFFSETFROM:-0400
TZOFFSETTO:-0500
RDATE:20251102T020000
END:STANDARD
BEGIN:DAYLIGHT
TZNAME:EDT
DTSTART:20240310T020000
TZOFFSETFROM:-0500
TZOFFSETTO:-0400
RDATE:20250309T020000
RDATE:20260308T020000
END:DAYLIGHT
END:VTIMEZONE
BEGIN:VEVENT
UID:bc092d9f-b11c-46ac-89b8-5311420a920e
DTSTAMP:20260421T230821Z
DESCRIPTION:Beat the winter blues with the crochet class at Chenango Arts C
 ouncil! Pat Horton teaches you how to crochet your own keyhole scarf! $12 
 for members\, $15 for non-members. All supplies included. Special thanks t
 o the Roger Follett Foundation.
DTSTART;TZID=America/New_York:20250220T180000
DTEND;TZID=America/New_York:20250220T200000
LOCATION:27 West Main Street\, Norwich\, AL 13815 US
SUMMARY:Crochet A Keyhole Scarf
END:VEVENT
END:VCALENDAR
