BEGIN:VCALENDAR
VERSION:2.0
PRODID:-//www.chenangoarts.org//NONSGML kigkonsult.se iCalcreator 2.30.10//
CALSCALE:GREGORIAN
METHOD:PUBLISH
UID:3bbd1b34-42e3-4956-8a12-d3c6b77a5533
X-WR-CALDESC:Stefani Pebler leads a paint and sip to create a painting in t
 he style of stained glass. All supplies are included. Registration is requ
 ired. Special thanks to the Roger Follett Foundation.
X-WR-RELCALID:daf216f6ba03a3028119b8a44c63fd80
X-WR-TIMEZONE:America/New_York
BEGIN:VTIMEZONE
TZID:America/New_York
BEGIN:STANDARD
TZNAME:EST
DTSTART:20241103T020000
TZOFFSETFROM:-0400
TZOFFSETTO:-0500
RDATE:20251102T020000
END:STANDARD
BEGIN:DAYLIGHT
TZNAME:EDT
DTSTART:20240310T020000
TZOFFSETFROM:-0500
TZOFFSETTO:-0400
RDATE:20250309T020000
RDATE:20260308T020000
END:DAYLIGHT
END:VTIMEZONE
BEGIN:VEVENT
UID:e5a4e1f7-62fd-4ba8-b0a7-eb9b63af22b8
DTSTAMP:20260422T020336Z
DESCRIPTION:Stefani Pebler leads a paint and sip to create a painting in th
 e style of stained glass. All supplies are included. Registration is requi
 red. Special thanks to the Roger Follett Foundation.
DTSTART;TZID=America/New_York:20241214T140000
DTEND;TZID=America/New_York:20241214T160000
LOCATION:27 West Main Street\, Norwich\, AL 13815 US
SUMMARY:Christmas Paint and Sip taught by Stefani Pebler
END:VEVENT
END:VCALENDAR
