BEGIN:VCALENDAR
VERSION:2.0
PRODID:-//www.chenangoarts.org//NONSGML kigkonsult.se iCalcreator 2.30.10//
CALSCALE:GREGORIAN
METHOD:PUBLISH
UID:4efc8bab-0812-4ed3-a650-894cd1d513d5
X-WR-CALDESC:You've heard of Elf on A Shelf\; Chenango Arts Council has Elf
  Made Yourself! Artist Linda kays Biviano leads 5 sessions of instruction 
 to craft your own unique piece of holiday decor! All supplies are included
 . No class on November 27. Special thanks to the Roger Follett Foundation.
X-WR-RELCALID:e4bacb50e6f0f016b8f297721f5af515
X-WR-TIMEZONE:America/New_York
BEGIN:VTIMEZONE
TZID:America/New_York
BEGIN:STANDARD
TZNAME:EST
DTSTART:20231105T020000
TZOFFSETFROM:-0400
TZOFFSETTO:-0500
RDATE:20241103T020000
RDATE:20251102T020000
END:STANDARD
BEGIN:DAYLIGHT
TZNAME:EDT
DTSTART:20240310T020000
TZOFFSETFROM:-0500
TZOFFSETTO:-0400
RDATE:20250309T020000
RDATE:20260308T020000
END:DAYLIGHT
END:VTIMEZONE
BEGIN:VEVENT
UID:80df6f5c-e2c6-45df-b83d-8aed7977da3a
DTSTAMP:20260422T020622Z
DESCRIPTION:You've heard of Elf on A Shelf\; Chenango Arts Council has Elf 
 Made Yourself! Artist Linda kays Biviano leads 5 sessions of instruction t
 o craft your own unique piece of holiday decor! All supplies are included.
  No class on November 27. Special thanks to the Roger Follett Foundation.
DTSTART;TZID=America/New_York:20241030T180000
DTEND;TZID=America/New_York:20241204T200000
LOCATION:27 West Main Street\, Norwich NY 13815\, Norwich\, NY 13815 US
SUMMARY:Make Your Own Christmas Elf with Linda Kays Biviano
END:VEVENT
END:VCALENDAR
