BEGIN:VCALENDAR
VERSION:2.0
PRODID:-//www.chenangoarts.org//NONSGML kigkonsult.se iCalcreator 2.30.10//
CALSCALE:GREGORIAN
METHOD:PUBLISH
UID:12221364-0c32-4396-af70-0a7a48caf9a1
X-WR-CALDESC:Get an intro to creative writing with Instructor Christopher D
 ean! Tuition covers 4 sessions and supplies. Beginners welcome!
X-WR-RELCALID:c1c46e36389969d7a1595c22fa2da6b6
X-WR-TIMEZONE:America/New_York
BEGIN:VTIMEZONE
TZID:America/New_York
BEGIN:STANDARD
TZNAME:EST
DTSTART:20231105T020000
TZOFFSETFROM:-0400
TZOFFSETTO:-0500
RDATE:20241103T020000
RDATE:20251102T020000
END:STANDARD
BEGIN:DAYLIGHT
TZNAME:EDT
DTSTART:20240310T020000
TZOFFSETFROM:-0500
TZOFFSETTO:-0400
RDATE:20250309T020000
RDATE:20260308T020000
END:DAYLIGHT
END:VTIMEZONE
BEGIN:VEVENT
UID:e7059677-142f-4731-ad43-cd66f95fb1a6
DTSTAMP:20260422T053642Z
DESCRIPTION:Get an intro to creative writing with Instructor Christopher De
 an! Tuition covers 4 sessions and supplies. Beginners welcome!
DTSTART;TZID=America/New_York:20241015T180000
DTEND;TZID=America/New_York:20241029T200000
LOCATION:27 W Main St\, Norwich\, AL 13815 US
SUMMARY:Creative Writing with Christopher Dean
END:VEVENT
END:VCALENDAR
