BEGIN:VCALENDAR
VERSION:2.0
PRODID:-//www.chenangoarts.org//NONSGML kigkonsult.se iCalcreator 2.30.10//
CALSCALE:GREGORIAN
METHOD:PUBLISH
UID:b93b6bda-9417-4fe7-89cd-a0826922a9f5
X-WR-CALDESC:Toast The Arts by taking a wine tour with Chenango Arts Counci
 l! At the height of fall colors\, we'll be taking a bus trip to two beauti
 ful locations along NY Route 89\, The Finger Lakes Cider House and Hosmer 
 Winery. $150 will cover your transportation\, a walking tour of Finger Lak
 es Cider House's farm and facility\, cider tasting\, and a wine tasting at
  Hosmer Winery. Lunch will be available to purchase at Finger Lakes Cider 
 House\, and refreshments from La Maison Blanche will be available on the b
 us. Departure from Chenango Arts Council will be at 9:30am\, lunch at Fing
 er Lakes Cider House around 11:30am\, a walking tour and cider tasting at 
 1pm and a wine tasting at Hosmer Winery at 3pm. We will then depart back t
 o Chenango Arts Council. This is a 21 and over event. Please RSVP by Septe
 mber 20.
X-WR-RELCALID:f039a71946e363f0bd4b47d0fabe01a0
X-WR-TIMEZONE:America/New_York
BEGIN:VTIMEZONE
TZID:America/New_York
BEGIN:STANDARD
TZNAME:EST
DTSTART:20231105T020000
TZOFFSETFROM:-0400
TZOFFSETTO:-0500
RDATE:20241103T020000
RDATE:20251102T020000
END:STANDARD
BEGIN:DAYLIGHT
TZNAME:EDT
DTSTART:20240310T020000
TZOFFSETFROM:-0500
TZOFFSETTO:-0400
RDATE:20250309T020000
RDATE:20260308T020000
END:DAYLIGHT
END:VTIMEZONE
BEGIN:VEVENT
UID:dcbaf72d-16e1-45ef-b4a2-bcbbd54a9f1f
DTSTAMP:20260422T053929Z
DESCRIPTION:Toast The Arts by taking a wine tour with Chenango Arts Council
 ! At the height of fall colors\, we'll be taking a bus trip to two beautif
 ul locations along NY Route 89\, The Finger Lakes Cider House and Hosmer W
 inery. $150 will cover your transportation\, a walking tour of Finger Lake
 s Cider House's farm and facility\, cider tasting\, and a wine tasting at 
 Hosmer Winery. Lunch will be available to purchase at Finger Lakes Cider H
 ouse\, and refreshments from La Maison Blanche will be available on the bu
 s. Departure from Chenango Arts Council will be at 9:30am\, lunch at Finge
 r Lakes Cider House around 11:30am\, a walking tour and cider tasting at 1
 pm and a wine tasting at Hosmer Winery at 3pm. We will then depart back to
  Chenango Arts Council. This is a 21 and over event. Please RSVP by Septem
 ber 20.
DTSTART;TZID=America/New_York:20241005T093000
DTEND;TZID=America/New_York:20241005T180000
LOCATION:27 W Main St\, Norwich\, NY 13815 US
SUMMARY:Sample Wine Along Rte 89 Chenango Arts Council Bus Tour Fundraiser
END:VEVENT
END:VCALENDAR
