BEGIN:VCALENDAR
VERSION:2.0
PRODID:-//www.chenangoarts.org//NONSGML kigkonsult.se iCalcreator 2.30.10//
CALSCALE:GREGORIAN
METHOD:PUBLISH
UID:d31a2475-ce65-4ee9-9278-5830fd546081
X-WR-CALDESC:Instruction and all supplies included to learn to make your ow
 n Sleepy Bunny!  Places are limited. Adults Only.
X-WR-RELCALID:0cd21b36689e412ce38107abe76564c0
X-WR-TIMEZONE:America/New_York
BEGIN:VTIMEZONE
TZID:America/New_York
BEGIN:STANDARD
TZNAME:EST
DTSTART:20221106T020000
TZOFFSETFROM:-0400
TZOFFSETTO:-0500
RDATE:20231105T020000
END:STANDARD
BEGIN:DAYLIGHT
TZNAME:EDT
DTSTART:20230312T020000
TZOFFSETFROM:-0500
TZOFFSETTO:-0400
RDATE:20240310T020000
END:DAYLIGHT
END:VTIMEZONE
BEGIN:VEVENT
UID:9a5d0ca6-844f-475d-8c2c-f1ab7c84cb2d
DTSTAMP:20260420T121826Z
DESCRIPTION:Instruction and all supplies included to learn to make your own
  Sleepy Bunny!  Places are limited. Adults Only.
DTSTART;TZID=America/New_York:20230319T140000
DTEND;TZID=America/New_York:20230319T160000
LOCATION:
SUMMARY:Felting Workshop: make a Sleeping Bunny
END:VEVENT
END:VCALENDAR
